BEGIN:VCALENDAR
VERSION:2.0
PRODID:-//ChamberMaster//Event Calendar 2.0//EN
METHOD:PUBLISH
X-PUBLISHED-TTL:P3D
REFRESH-INTERVAL:P3D
CALSCALE:GREGORIAN
BEGIN:VEVENT
DTSTART:20260506T123000Z
DTEND:20260506T133000Z
X-MICROSOFT-CDO-ALLDAYEVENT:FALSE
SUMMARY:ABA New Member Orientation May 2026
DESCRIPTION:Maximize your ABA membership! Join us for a morning of networking and learning at the ABA's New Member Orientation at Worklab Ada. Whether you're a brand-new member or want a refresher on the benefits the Ada Business Association has to offer\, this is the perfect opportunity to connect with fellow members and the ABA team.\n\nThis informal session will walk you through the ABA's programs\, events\, and services\, giving you a clear understanding of how we can support your business and help it thrive.\n\nDon't miss this opportunity to connect\, learn\, collaborate and grow! \n\n\n\nWorklab is located above LMCU. The entrance door is directly across from LMCU in the covered walkway.
X-ALT-DESC;FMTTYPE=text/html:<div class="xdj266r x14z9mp xat24cr x1lziwak x1vvkbs" style="overflow-wrap: break-word\; margin-inline: 0px\; margin-bottom: 0px\; margin-top: 0px\; font-family: system-ui\, -apple-system\, &quot\;system-ui&quot\;\, &quot\;.SFNSText-Regular&quot\;\, sans-serif\; color: rgb(8\, 8\, 9)\; font-size: 15px\; background-color: rgb(255\, 255\, 255)\;"><span style="color:#000000\;"><span style="font-size:16px\;"><span style="font-family:arial\;">Maximize your ABA membership! Join us for a morning of networking and learning at the ABA&rsquo\;s New Member Orientation at Worklab Ada. Whether you&#39\;re a brand-new member or want a refresher on the benefits the Ada Business Association has to offer\, this is the perfect opportunity to connect with fellow members and the ABA team.</span></span></span></div>\n\n<div class="x14z9mp xat24cr x1lziwak x1vvkbs xtlvy1s" style="overflow-wrap: break-word\; margin-top: 0.5em\; margin-inline: 0px\; margin-bottom: 0px\; font-family: system-ui\, -apple-system\, &quot\;system-ui&quot\;\, &quot\;.SFNSText-Regular&quot\;\, sans-serif\; color: rgb(8\, 8\, 9)\; font-size: 15px\; background-color: rgb(255\, 255\, 255)\;"><span style="color:#000000\;"><span style="font-size:16px\;"><span style="font-family:arial\;">This informal session will walk you through the ABA&rsquo\;s programs\, events\, and services\, giving you a clear understanding of how we can support your business and help it thrive.</span></span></span></div>\n\n<div class="x14z9mp xat24cr x1lziwak x1vvkbs xtlvy1s" style="overflow-wrap: break-word\; margin-top: 0.5em\; margin-inline: 0px\; margin-bottom: 0px\; font-family: system-ui\, -apple-system\, &quot\;system-ui&quot\;\, &quot\;.SFNSText-Regular&quot\;\, sans-serif\; color: rgb(8\, 8\, 9)\; font-size: 15px\; background-color: rgb(255\, 255\, 255)\;"><span style="color:#000000\;"><span style="font-size:16px\;"><span style="font-family:arial\;">Don&rsquo\;t miss this opportunity to connect\, learn\, collaborate and grow!&nbsp\;</span></span></span><br />\n<br />\nWorklab is located above LMCU. The entrance door is directly across from LMCU in the covered walkway.</div>\n
LOCATION:Worklab Ada 496 Ada Dr SE\, #201
UID:e.9476.44
SEQUENCE:3
DTSTAMP:20260424T082902Z
URL:https://business.adabusinessassociation.com/events/details/aba-new-member-orientation-may-2026-44
END:VEVENT

END:VCALENDAR
