BEGIN:VCALENDAR
VERSION:2.0
PRODID:-//ChamberMaster//Event Calendar 2.0//EN
METHOD:PUBLISH
X-PUBLISHED-TTL:P3D
REFRESH-INTERVAL:P3D
CALSCALE:GREGORIAN
BEGIN:VEVENT
DTSTART:20221202T223000Z
DTEND:20221203T020000Z
X-MICROSOFT-CDO-ALLDAYEVENT:FALSE
SUMMARY:Tinsel\, Treats & Trolleys
DESCRIPTION:Tinsel\, Treats & Trolleys is the ABA's signature holiday event featuring the Ada Bridge Lighting\, Santa's Village\, trolley rides through Ada Village\, family activities and holiday cheer! This event will launch the Winter Wonderland season in Ada that will include a storefront window competition\, a holiday lights walk and the Festival of Trees in Legacy Park.\n\n\n\n5:30pm - Bridge Lighting\n\n6:00pm - Trolleys Start\n\n\n\nEvent Program - click here.\n\n\n\nFamily photo opportunity at 7331 Bronson St - visit before or after the bridge lighting\, available all evening.\n\n\n\nThe Festival of Trees will take place in Legacy Park December 2nd\,\n\nthrough January 1st. Tree decorating guidelines.\n\n\n\nAda businesses hosting activities for Tinsel\, Treats & Trolleys:\n\nAda Conservatory of Music - Performances at The Community Church\n\nAda Dental Company - 'Summer in December' fun with sparklers for the kids\, a Solo Stove bonfire to warm-up and a drawing for a Yeti cooler\n\nAda Garage Bar - Live music by Nathan Walton\, 6-9pm\n\nAda History Center - Visit with Mrs. Claus and a holiday greeting card craft\n\nAda Village General Store - Coffee samples/tastings from Morningsong Coffee Roasters\n\nAda Village Pharmacy - Stop by to enjoy a complimentary stress reduction chair massage for the holidays provided by Duo Massage\n\nAda Vision Center - Enjoy a bonfire\, hot cocoa and a sticker craft for the kids\n\nBeyond of Ada - Make a wish and hang it on the wishing tree\n\nBrody's Be Cafe - featuring a Holiday drink special. free ornament craft and meet & greet with Buddy the Elf\n\nDMC Design - Sips and a snack - plus\, holiday decor open house\n\nFive Star Real Estate - Candy Canes & Magic Reindeer Food - Stop in and make some Magic Reindeer Food to sprinkle on your lawn on Christmas Eve to guide the reindeer to your home\n\nFruition - Christmas card decorating and 25% off orders during the event\n\nGallery M - Holiday open house\n\nGina's Boutique - 15% off and Treats \n\nGravel Bottom Craft Brewery - Spiced hot chocolate and DJ Dance Party in partnership with Pennell\, CPA\n\nHeather Lane Pottery/Periwinkle's - Open house featuring personalized ornaments and treats\n\nKDL - Amy Van Andel Library - Sled dogs from 6-7pm\, holiday craft and a used book sale hosted by Friends of the Library\n\nLaurel & Jack - Stop by and enjoy food\, drinks\, 20% off\, swag\, giveaways and more!\n\nLifeologie - hosting a paint pen craft in the lobby of The Community Church\n\nLuna - Spiked (and not spiked) Mexican hot chocolate\n\nMudPenny - Drink and food specials\n\nNonna's: The Trattoria - Holiday treat\n\nPlumfield Books - Kid's mitten coloring contest   plus\, jazz duo in front of the shop\n\nPursuit Gift Shop - Holiday craft\n\nSchnitz - Holiday special - Brandy Gorgonzola Steak Tenderloin with redskin potatoes and Brussel sprouts\n\nThe Community Church - Balloon animals\n\nThe James - Hot Cocoa Bar\n\nTip Toes - $20 off a purchase of $100 or more\n\nUnion Bank - Hot chocolate and a holiday craft\n\nZeytin Turkish Restaurant - Signature adult beverage - Cranberry Kringle\n\n\n\nJoin the fun and volunteer at this event! Click here to view times and positions available.
X-ALT-DESC;FMTTYPE=text/html:<p style="margin: 0px\; padding: 0px\; caret-color: rgb(64\, 63\, 66)\; color: rgb(64\, 63\, 66)\; font-family: Arial\, Verdana\, Helvetica\, sans-serif\; font-size: 16px\; text-size-adjust: auto\;"><span style="color:#000000\;"><span style="font-family: sans-serif\, Arial\, Verdana\, &quot\;Trebuchet MS&quot\;\;">Tinsel\, Treats &amp\; Trolleys is the ABA&#39\;s signature holiday event featuring the Ada Bridge Lighting\, Santa&#39\;s Village\, trolley rides through Ada Village\, family activities and holiday cheer! This event will launch the Winter Wonderland season in Ada that will include a storefront window competition\, a holiday lights walk&nbsp\;and the&nbsp\;Festival of Trees in Legacy Park.</span></span><br />\n<br />\n<span style="font-size:16px\;"><span style="font-family:arial\;"><span style="color: rgb(5\, 5\, 5)\; background-color: rgb(255\, 255\, 255)\;">5:30pm - Bridge Lighting</span></span></span><br style="color: rgb(5\, 5\, 5)\; font-family: system-ui\, -apple-system\, &quot\;system-ui&quot\;\, &quot\;.SFNSText-Regular&quot\;\, sans-serif\; font-size: 15px\; background-color: rgb(255\, 255\, 255)\;" />\n<span style="color: rgb(5\, 5\, 5)\; font-family: system-ui\, -apple-system\, &quot\;system-ui&quot\;\, &quot\;.SFNSText-Regular&quot\;\, sans-serif\; font-size: 15px\; background-color: rgb(255\, 255\, 255)\;"><span style="font-size:16px\;"><span style="font-family:arial\;">6:00pm - Trolleys Start</span></span><br />\n<br />\nEvent Program - click </span><span style="font-family: system-ui\, -apple-system\, &quot\;system-ui&quot\;\, &quot\;.SFNSText-Regular&quot\;\, sans-serif\; font-size: 15px\; background-color: rgb(255\, 255\, 255)\;"><a href="https://adabusinessassociation.com/wp-content/uploads/2022/11/ttt-2022-program-web.pdf"><span style="color:#006400\;">here</span></a></span><span style="color: rgb(5\, 5\, 5)\; font-family: system-ui\, -apple-system\, &quot\;system-ui&quot\;\, &quot\;.SFNSText-Regular&quot\;\, sans-serif\; font-size: 15px\; background-color: rgb(255\, 255\, 255)\;">.</span><br />\n<br />\n<span style="color:#000000\;"><span style="font-size:16px\;"><span style="font-family:arial\;"><span style="caret-color: rgb(0\, 0\, 0)\; text-size-adjust: auto\;">Family photo opportunity at 7331 Bronson St - visit before or after the bridge lighting\, available all evening.</span></span></span></span></p>\n\n<p style="margin: 0px\; padding: 0px\; caret-color: rgb(64\, 63\, 66)\; color: rgb(64\, 63\, 66)\; font-family: Arial\, Verdana\, Helvetica\, sans-serif\; font-size: 16px\; text-size-adjust: auto\;"><br />\n<span style="font-size:16px\;"><span style="font-family:arial\;"><span style="color: rgb(5\, 5\, 5)\;">The Festival of Trees will take place in Legacy Park December 2nd\,</span></span></span></p>\n\n<p style="margin: 0px\; padding: 0px\; caret-color: rgb(64\, 63\, 66)\; color: rgb(64\, 63\, 66)\; font-family: Arial\, Verdana\, Helvetica\, sans-serif\; font-size: 16px\; text-size-adjust: auto\;"><span style="font-size:16px\;"><span style="font-family:arial\;"><span style="color: rgb(5\, 5\, 5)\;">through January 1st.&nbsp\;</span><span style="color: rgb(0\, 0\, 0)\;">Tree decorating </span><span style="color: rgb(51\, 51\, 51)\;"><a href="https://adabusinessassociation.com/wp-content/uploads/2022/10/Festival-Of-Trees-Guidelines.pdf"><span style="color:#008000\;">guidelines.</span></a></span></span></span><br />\n<br />\n<span style="font-size:18px\;"><span style="color:#FF0000\;"><span style="font-family:arial\;"><strong>Ada businesses hosting activities for Tinsel\, Treats &amp\; Trolleys:</strong></span></span></span><br />\n<span style="font-size:16px\;"><span style="font-family:arial\;"><strong><span style="color: rgb(64\, 63\, 66)\; background: white\;">Ada Conservatory of Music</span></strong><span style="caret-color: rgb(64\, 63\, 66)\;"><span style="background: white\;">&nbsp\;- Performances at The Community Church</span></span><br style="caret-color: rgb(64\, 63\, 66)\;" />\n<strong style="caret-color: rgb(64\, 63\, 66)\;"><span style="color: rgb(64\, 63\, 66)\; background: white\;">Ada Dental Company</span></strong><span style="caret-color: rgb(64\, 63\, 66)\;"><span style="background: white\;">&nbsp\;-&nbsp\;&#39\;Summer in December&#39\; fun with sparklers for the kids\, a Solo Stove bonfire to warm-up and&nbsp\;a drawing for a Yeti cooler</span></span><br style="caret-color: rgb(64\, 63\, 66)\;" />\n<strong style="caret-color: rgb(64\, 63\, 66)\;"><span style="color: rgb(64\, 63\, 66)\; background: white\;">Ada Garage Bar</span></strong><span style="caret-color: rgb(64\, 63\, 66)\;"><span style="background: white\;">&nbsp\;-</span>&nbsp\;<span style="white-space: pre-wrap\;">Live music by Nathan Walton\, 6-9pm</span><br />\n<strong><span style="color: rgb(64\, 63\, 66)\; background: white\;">Ada History Center</span></strong><span style="background: white\;"> - Visit with </span><span style="white-space: pre-wrap\;">Mrs. Claus and a holiday greeting card craft</span><br />\n<strong><span style="color: rgb(64\, 63\, 66)\; background: white\;">Ada Village General Store - C</span></strong><span style="background: white\;">offee<b> </b>samples/tastings from Morningsong Coffee Roasters</span><br />\n<strong><span style="color: rgb(64\, 63\, 66)\; background: white\;">Ada Village Pharmacy - </span></strong><span style="background: white\;"><span style="white-space: pre-wrap\;">Stop by to enjoy a complimentary stress reduction chair massage for the holidays provided by Duo Massage</span><br />\n<strong><span style="color: rgb(64\, 63\, 66)\; background-image: initial\; background-position: initial\; background-size: initial\; background-repeat: initial\; background-attachment: initial\; background-origin: initial\; background-clip: initial\;">Ada Vision Center </span></strong><span style="background-image: initial\; background-position: initial\; background-size: initial\; background-repeat: initial\; background-attachment: initial\; background-origin: initial\; background-clip: initial\;">- E</span><span style="white-space: pre-wrap\;">njoy a bonfire\, hot cocoa and a sticker craft for the kids</span></span><br />\n<strong><span style="color: rgb(64\, 63\, 66)\; background: white\;"><span style="white-space: pre-wrap\;">Beyond of Ada </span></span></strong><span style="background: white\;">- </span><span style="white-space: pre-wrap\;">Make a wish and hang it on the wishing tree</span></span><br />\n<strong><span style="color: rgb(64\, 63\, 66)\; background: white\;"><span style="white-space: pre-wrap\;">Brody&#39\;s Be Cafe</span></span></strong><span style="background: white\;"> - featuring a </span><span style="white-space: pre-wrap\;">Holiday drink special. free ornament craft and meet &amp\; greet with Buddy the Elf</span><br />\n<strong><span style="color: rgb(64\, 63\, 66)\; background: white\;">DMC Design - </span></strong><span style="background: white\;">Sips and a snack - plus\, holiday decor open house</span><br />\n<strong><span style="color: rgb(64\, 63\, 66)\; background: white\;">Five Star Real Estate -&nbsp\;</span><span style="background: white\; font-weight: normal\;">Candy Canes &amp\; Magic Reindeer Food</span><span style="background: white\;"> - </span></strong>Stop in and make some Magic Reindeer Food to sprinkle on your lawn on Christmas Eve to guide the reindeer to your home</span></span><br />\n<span style="font-size:16px\;"><span style="font-family:arial\;"><b><strong><span style="color: rgb(64\, 63\, 66)\; background: white\;">Fruition - </span></strong></b><span style="background: white\;">Christmas card decorating and 25% off orders during the event</span><br />\n<strong><span style="color: rgb(64\, 63\, 66)\; background: white\;">Gallery M - </span></strong><span style="color: rgb(64\, 63\, 66)\; background: white\;">Holiday open house<br />\n<strong>Gina&#39\;s Boutique</strong> -&nbsp\;</span></span><span style="font-family: Arial\; white-space: pre-wrap\; background-color: rgb(255\, 255\, 255)\;">15% off and Treats </span></span><br />\n<span style="font-size:16px\;"><span style="font-family:arial\;"><b><strong><span style="color: rgb(64\, 63\, 66)\; background: white\;">Gravel Bottom Craft Brewery - </span></strong></b><span style="background: white\;">Spiced hot chocolate and DJ Dance Party in partnership with Pennell\, CPA</span><br />\n<strong><span style="color: rgb(64\, 63\, 66)\; background: white\;">Heather Lane Pottery/Periwinkle&#39\;s - </span></strong><span style="background: white\;">Open house featuring personalized ornaments and treats</span><br />\n<strong><span style="color: rgb(64\, 63\, 66)\; background: white\;">KDL - Amy Van Andel Library - </span></strong><span style="background: white\;">Sled dogs from 6-7pm\, holiday craft and a used book sale hosted by Friends of the Library</span><br />\n<strong><span style="color: rgb(64\, 63\, 66)\; background: white\;">Laurel &amp\; Jack -&nbsp\;</span></strong><span style="background-color: rgb(255\, 255\, 255)\;">Stop by and enjoy food\, drinks\, 20% off\, swag\, giveaways and more!</span><br />\n<strong><span style="color: rgb(64\, 63\, 66)\; background: white\;">Lifeologie </span></strong><span style="background: white\;">- hosting a paint pen craft in the lobby of The Community Church</span><br />\n<strong><span style="color: rgb(64\, 63\, 66)\; background: white\;">Luna -</span><span style="background: white\;">&nbsp\;</span></strong><span style="caret-color: rgb(255\, 255\, 255)\; text-size-adjust: auto\;"><span style="text-size-adjust: auto\;">Spiked (and not spiked) Mexican hot chocolate</span></span><br />\n<strong><span style="color: rgb(64\, 63\, 66)\; background: white\;">MudPenny - </span></strong><span style="background: white\;">Drink and food specials<br />\n<strong>Nonna&#39\;s: The Trattoria -&nbsp\;</strong>Holiday treat<br />\n<strong>Plumfield Books -&nbsp\;</strong></span></span></span><span style="font-size: 12pt\; font-family: Arial\, sans-serif\;">Kid&rsquo\;s mitten coloring contest &ndash\; plus\, jazz duo in front of the shop</span><br />\n<span style="font-size:16px\;"><span style="font-family:arial\;"><strong><span style="color: rgb(64\, 63\, 66)\; background: white\;">Pursuit Gift Shop - </span></strong><span style="background: white\;">Holiday craft</span><br />\n<strong><span style="color: rgb(64\, 63\, 66)\; background: white\;">Schnitz -</span></strong><span style="color: rgb(64\, 63\, 66)\; background: white\;">&nbsp\;Holiday special - Brandy Gorgonzola Steak Tenderloin with redskin potatoes and Brussel sprouts<br />\n<strong>The Community Church</strong> - Balloon animals<br />\n<strong>The James</strong> - Hot Cocoa Bar<br />\n<strong>Tip Toes -&nbsp\;</strong></span></span></span><span style="font-size: 12pt\; font-family: Arial\, sans-serif\; background: white\;">$20 off a purchase of $100 or more</span><br />\n<span style="font-size:16px\;"><span style="font-family:arial\;"><b><strong><span style="color: rgb(64\, 63\, 66)\; background: white\;">Union Bank - </span></strong></b><span style="background: white\;">Hot chocolate and a holiday craft</span><br />\n<strong><span style="color: rgb(64\, 63\, 66)\; background: white\;">Zeytin Turkish Restaurant</span></strong><span style="background: white\;"> - Signature adult beverage - Cranberry Kringle</span></span></span><br />\n<br />\n<span style="font-family:arial\;"><span style="font-size:16px\;"><span style="background-color: rgb(255\, 255\, 255)\;">Join the fun and volunteer at this event! Click</span><span style="color: rgb(51\, 51\, 51)\; background-color: rgb(255\, 255\, 255)\;">&nbsp\;</span><a href="https://www.signupgenius.com/go/904094eaea62aa20-adavillage" style="color: rgb(7\, 130\, 193)\; font-family: sans-serif\, Arial\, Verdana\, &quot\;Trebuchet MS&quot\;\; font-size: 16px\; background-color: rgb(255\, 255\, 255)\;"><span style="color:#006400\;">here</span></a><span style="color: rgb(51\, 51\, 51)\; background-color: rgb(255\, 255\, 255)\;">&nbsp\;</span><span style="background-color: rgb(255\, 255\, 255)\;">to view times and positions available.</span></span></span></p>\n<br />\n&nbsp\;
LOCATION:Ada Village
UID:e.9476.7
SEQUENCE:3
DTSTAMP:20260425T102757Z
URL:https://business.adabusinessassociation.com/events/details/tinsel-treats-trolleys-7
END:VEVENT

END:VCALENDAR
